BEGIN:VCALENDAR
VERSION:2.0
PRODID:-//Horseless Carriage Club of America - ECPv6.15.20//NONSGML v1.0//EN
CALSCALE:GREGORIAN
METHOD:PUBLISH
X-WR-CALNAME:Horseless Carriage Club of America
X-ORIGINAL-URL:https://hcca.org
X-WR-CALDESC:Events for Horseless Carriage Club of America
REFRESH-INTERVAL;VALUE=DURATION:PT1H
X-Robots-Tag:noindex
X-PUBLISHED-TTL:PT1H
BEGIN:VTIMEZONE
TZID:America/Los_Angeles
BEGIN:DAYLIGHT
TZOFFSETFROM:-0800
TZOFFSETTO:-0700
TZNAME:PDT
DTSTART:20230312T100000
END:DAYLIGHT
BEGIN:STANDARD
TZOFFSETFROM:-0700
TZOFFSETTO:-0800
TZNAME:PST
DTSTART:20231105T090000
END:STANDARD
BEGIN:DAYLIGHT
TZOFFSETFROM:-0800
TZOFFSETTO:-0700
TZNAME:PDT
DTSTART:20240310T100000
END:DAYLIGHT
BEGIN:STANDARD
TZOFFSETFROM:-0700
TZOFFSETTO:-0800
TZNAME:PST
DTSTART:20241103T090000
END:STANDARD
BEGIN:DAYLIGHT
TZOFFSETFROM:-0800
TZOFFSETTO:-0700
TZNAME:PDT
DTSTART:20250309T100000
END:DAYLIGHT
BEGIN:STANDARD
TZOFFSETFROM:-0700
TZOFFSETTO:-0800
TZNAME:PST
DTSTART:20251102T090000
END:STANDARD
END:VTIMEZONE
BEGIN:VEVENT
DTSTART;VALUE=DATE:20240730
DTEND;VALUE=DATE:20240812
DTSTAMP:20260424T054708
CREATED:20240410T122404Z
LAST-MODIFIED:20240410T122827Z
UID:10000061-1722358800-1723395599@hcca.org
SUMMARY:Ryan Ramble Tour - Bridgeport\, CA
DESCRIPTION:Bridgeport\, CA — July 31 – August 4\, 2024 \n\nBeautiful high desert country — touring Mono Lake Tufas and June Lakes Loop\, Bodie State Historic Park\, Topaz Lake Loop through Smith Valley\, and Twin Lakes.\nTour registration and hospitality Wednesday at Walker River Lodge\, 2-7 pm.\nThe Bridgeport Museum will be open from 4-6\, and there will be an “Identity Game” in the local cemetery.\nHospitality at Walker River Lodge each afternoon after touring.\nElevations 6\,500 to 8\,500 feet. If you have health issues with high elevations this may not be a tour for you.\nPre-tour mailer to participants will follow in mid-July.\nJune 30\, 2024 – DEADLINE to register for this tour.\nLast date for refund July 15\, 2024.\n\nREGISTRATION FORM
URL:https://hcca.org/event/ryan-ramble-bridgeport-ca/
CATEGORIES:>>Regional - West,HCCA Events,Regional Events
ATTACH;FMTTYPE=image/png:https://hcca.org/wp-content/uploads/2024/04/Screenshot-2024-04-09-at-4.20.19 PM-1.png
END:VEVENT
BEGIN:VEVENT
DTSTART;VALUE=DATE:20240804
DTEND;VALUE=DATE:20240808
DTSTAMP:20260424T054708
CREATED:20240726T211838Z
LAST-MODIFIED:20240726T212610Z
UID:10000072-1722729600-1723075199@hcca.org
SUMMARY:Midwest Brass and Gas Regional Summer Tour – Marshall\, Indiana
DESCRIPTION:Midwest Brass and Gas Regional Summer Tour\nTurkey Run Inn\nMarshall\, IN\nRobin and Mike McGrath\n1-719-338-3239 \nmikemcgrath54@gmail.com
URL:https://hcca.org/event/midwest-brass-and-gas-regional-summer-tour-marshall-indiana/
CATEGORIES:>>Regional - Central,HCCA Events,Regional Events
END:VEVENT
END:VCALENDAR