BEGIN:VCALENDAR
VERSION:2.0
PRODID:-//Horseless Carriage Club of America - ECPv6.15.20//NONSGML v1.0//EN
CALSCALE:GREGORIAN
METHOD:PUBLISH
X-WR-CALNAME:Horseless Carriage Club of America
X-ORIGINAL-URL:https://hcca.org
X-WR-CALDESC:Events for Horseless Carriage Club of America
REFRESH-INTERVAL;VALUE=DURATION:PT1H
X-Robots-Tag:noindex
X-PUBLISHED-TTL:PT1H
BEGIN:VTIMEZONE
TZID:America/Los_Angeles
BEGIN:DAYLIGHT
TZOFFSETFROM:-0800
TZOFFSETTO:-0700
TZNAME:PDT
DTSTART:20240310T100000
END:DAYLIGHT
BEGIN:STANDARD
TZOFFSETFROM:-0700
TZOFFSETTO:-0800
TZNAME:PST
DTSTART:20241103T090000
END:STANDARD
BEGIN:DAYLIGHT
TZOFFSETFROM:-0800
TZOFFSETTO:-0700
TZNAME:PDT
DTSTART:20250309T100000
END:DAYLIGHT
BEGIN:STANDARD
TZOFFSETFROM:-0700
TZOFFSETTO:-0800
TZNAME:PST
DTSTART:20251102T090000
END:STANDARD
BEGIN:DAYLIGHT
TZOFFSETFROM:-0800
TZOFFSETTO:-0700
TZNAME:PDT
DTSTART:20260308T100000
END:DAYLIGHT
BEGIN:STANDARD
TZOFFSETFROM:-0700
TZOFFSETTO:-0800
TZNAME:PST
DTSTART:20261101T090000
END:STANDARD
END:VTIMEZONE
BEGIN:VEVENT
DTSTART;TZID=America/Los_Angeles:20250116T080000
DTEND;TZID=America/Los_Angeles:20250116T170000
DTSTAMP:20260420T105248
CREATED:20250117T000607Z
LAST-MODIFIED:20250117T000731Z
UID:10000086-1737014400-1737046800@hcca.org
SUMMARY:Third Annual ABC Tour - Pine Mtn\, Georgia
DESCRIPTION:Third Annual ABC National Tour hosted by Atlanta Regional Group\nJune 1 through 5\, 2026\nCallaway Resort and Gardens\, Pine Mtn\, GA 31822\nRegistration Info Coming May\, 2025 \nKenny Wright –  kenny@knwfire.com
URL:https://hcca.org/event/third-annual-abc-tour-pine-mtn-georgia/
END:VEVENT
END:VCALENDAR