BEGIN:VCALENDAR
VERSION:2.0
PRODID:-//Horseless Carriage Club of America - ECPv6.15.20//NONSGML v1.0//EN
CALSCALE:GREGORIAN
METHOD:PUBLISH
X-ORIGINAL-URL:https://hcca.org
X-WR-CALDESC:Events for Horseless Carriage Club of America
REFRESH-INTERVAL;VALUE=DURATION:PT1H
X-Robots-Tag:noindex
X-PUBLISHED-TTL:PT1H
BEGIN:VTIMEZONE
TZID:America/Los_Angeles
BEGIN:DAYLIGHT
TZOFFSETFROM:-0800
TZOFFSETTO:-0700
TZNAME:PDT
DTSTART:20250309T100000
END:DAYLIGHT
BEGIN:STANDARD
TZOFFSETFROM:-0700
TZOFFSETTO:-0800
TZNAME:PST
DTSTART:20251102T090000
END:STANDARD
BEGIN:DAYLIGHT
TZOFFSETFROM:-0800
TZOFFSETTO:-0700
TZNAME:PDT
DTSTART:20260308T100000
END:DAYLIGHT
BEGIN:STANDARD
TZOFFSETFROM:-0700
TZOFFSETTO:-0800
TZNAME:PST
DTSTART:20261101T090000
END:STANDARD
BEGIN:DAYLIGHT
TZOFFSETFROM:-0800
TZOFFSETTO:-0700
TZNAME:PDT
DTSTART:20270314T100000
END:DAYLIGHT
BEGIN:STANDARD
TZOFFSETFROM:-0700
TZOFFSETTO:-0800
TZNAME:PST
DTSTART:20271107T090000
END:STANDARD
END:VTIMEZONE
BEGIN:VEVENT
DTSTART;VALUE=DATE:20260716
DTEND;VALUE=DATE:20260719
DTSTAMP:20260419T075401
CREATED:20260313T223743Z
LAST-MODIFIED:20260313T223743Z
UID:10000127-1784160000-1784419199@hcca.org
SUMMARY:Celebration of Brass VI & Pre-WWII Swap Meet – Hickory Corners\, MI
DESCRIPTION:The Museum of the Horseless Carriage is pleased to present our Sixth Annual signature event\, the Celebration of Brass VI\, featuring 45 hp cars and above. Of course\, we welcome ALL Pre-1916 automobiles\, trucks\, and motorcycles. We hope you will join us at the Gilmore Car Museum in Hickory Corners\, Michigan\, where early automobile enthusiasts will display and drive their Brass Era vehicles\, highlighting the incredible history and development of these pioneer machines that paved the way to our modern era. \nTHE REGISTRATION FORM IS AVAILABLE AT  \nwww.museumofthehorselesscarriage.org/events \n We have a lot happening at the Friday & Saturday\, July 17 & 18\, COB VI Car Show this summer! \n\nSee up to 100 Brass Era vehicles up close all in one place\nShare in the historic MHC Groundbreaking Special Event\nPre-WWII Swap Meet\nCheck out our current MHC home in the Steam Barn at the GCM\nSee the site of the future Museum of the Horseless Carriage\nBrass Era Car Rides\nEducational Presentations with Knowledgeable Speakers\nBrass Era Technical Demonstrations\nPass-In-Review\nThursday evening\, July 16\, Welcome Taco Party at the host hotel\nFriday evening\, July 17\, MHC Fundraiser Ice Cream Social at Tony and Bonnie Pienta’s Car Collection\nSaturday evening\, July 18\, Celebration Dinner with Jay Follis entertaining us with his popular Titanic: Michigan’s Connections presentation\n\nAll this is followed by the COB VI Three-Day HCCA National Tour\, July 19 – 21\, 2026. \nCOB VI & HCCA NATIONAL TOUR HOST HOTEL \nHoliday Inn & Suites\, Kalamazoo West\, 1247 Westgate Drive\, Kalamazoo\, MI 49009. The group rate is $124.00 for Standard King and $134.00 for Standard Double Queen rooms plus taxes and fees. The Celebration of Brass room block has a cut-off date of June 24\, 2026. The block is available Thursday\, July 16 – Tuesday\, July 21\, 2026 (departing July 22). The hotel is located 24 miles southwest of the GCM. For reservations call 269-888-4800. Information about the hotel link is on the MHC website. \nThe Registration Form is on the MHC website at  https://www.museumofthehorselesscarriage.org/events \nIf you have questions\, please contact Event Chair\, Terry Cole\, at events@museumofthehorselesscarriage.org or 616-262-9477. \n 
URL:https://hcca.org/event/celebration-of-brass-vi-pre-wwii-swap-meet-hickory-corners-mi/
CATEGORIES:>>Regional - Central,HCCA Events
ATTACH;FMTTYPE=image/jpeg:https://hcca.org/wp-content/uploads/2026/03/Registration-Open-3.26-scaled.jpg
END:VEVENT
BEGIN:VEVENT
DTSTART;VALUE=DATE:20260719
DTEND;VALUE=DATE:20260722
DTSTAMP:20260419T075401
CREATED:20260313T223529Z
LAST-MODIFIED:20260313T230506Z
UID:10000126-1784419200-1784678399@hcca.org
SUMMARY:Celebration of Brass VI HCCA National Tour – Kalamazoo\, MI
DESCRIPTION:Please join us for a Three-Day HCCA National Tour\, directly following the Celebration of Brass VI amazing Pre-1916 Car Show & Pre-WWII Swap Meet held at the Gilmore Car Museum. Sponsored by the Museum of the Horseless Carriage Touring Club\, HCCA members will be touring Sunday\, Monday\, & Tuesday in their Brass Era (gas\, steam\, or electric) automobiles\, trucks\, and motorcycles to all new destinations\, on all new routes throughout picturesque southwest Michigan. The tour starts and finishes each day at the COB VI host hotel. There is rig parking at or near the hotel. \nTHE REGISTRATION FORM IS AVAILABLE AT  \nwww.museumofthehorselesscarriage.org/events \nCOB VI & HCCA NATIONAL TOUR HOST HOTEL  \nHoliday Inn & Suites\, Kalamazoo West\, 1247 Westgate Drive\, Kalamazoo\, MI 49009. The group rate is $124.00 for Standard King and $134.00 for Standard Double Queen rooms plus taxes and fees. The Celebration of Brass room block has a cut-off date of June 24\, 2026. The block is available Thursday\, July 16 – Tuesday\, July 21\, 2026 (departing July 22). For reservations call 269-888-4800. Information about the hotel link is on the MHC website.  \nSee the registration form for tour inclusions at https://www.museumofthehorselesscarriage.org/events \nIf you have questions\, please contact Event Chair\, Terry Cole\, at events@museumofthehorselesscarriage.org or 616-262-9477.
URL:https://hcca.org/event/celebration-of-brass-vi-hcca-national-tour-kalamazoo-mi/
CATEGORIES:>>Regional - Central,HCCA Events
ATTACH;FMTTYPE=image/jpeg:https://hcca.org/wp-content/uploads/2026/03/2026-HCCA-National-Tour-1-scaled.jpg
END:VEVENT
BEGIN:VEVENT
DTSTART;VALUE=DATE:20260726
DTEND;VALUE=DATE:20260731
DTSTAMP:20260419T075401
CREATED:20260115T231911Z
LAST-MODIFIED:20260311T172440Z
UID:10000117-1785024000-1785455999@hcca.org
SUMMARY:Midwest Regional Tour - Council Bluffs\, IA
DESCRIPTION:2026 HCCA Midwest Regional Tour\nJuly 26\, 2026 – July 30\, 2026\nCouncil Bluffs\, IA\nHost hotel – AmericInn\, 1000 Woodbury Ave\, Council Bluffs\, IA\nContact: Ed Hedegaard 402-490-5909 \nHCCA Midwest Regional Tour registration form
URL:https://hcca.org/event/midwest-regional-tour-council-bluffs-ia/
CATEGORIES:>>Regional - Central,HCCA Events
END:VEVENT
BEGIN:VEVENT
DTSTART;VALUE=DATE:20260726
DTEND;VALUE=DATE:20260801
DTSTAMP:20260419T075401
CREATED:20260114T172337Z
LAST-MODIFIED:20260114T172337Z
UID:10000113-1785024000-1785542399@hcca.org
SUMMARY:Midwest Brass and Gas - Summer Tour
DESCRIPTION:Midwest Brass and Gas\n2026 Summer Tour\nWhite Eagle Conference Center\nHamilton NY\nJuly 26-31st 2026 \nOverview:\nMid West Brass & Gas summer 2026 tour July 26-July 31st\nLimited to 40 cars\nOur tour location will be in Hamilton N.Y. @ White Eagle Conference Center. Reservations at group rate can be made by calling 315-824-2002. Tell them your with Brass & Gas tour. Cabins overlooking the lake. \nOur destinations will include\nCar & truck museums\nBoat & lunch cruise\nMorrisville state college Horse Rehab center\nWild animal park &\nDistillery & brewery \nFor tour information contact host\nSteve & Darlene Bono\n315-569-1219\ndarleneandsteve@yahoo.com
URL:https://hcca.org/event/midwest-brass-and-gas-summer-tour/
CATEGORIES:>>Regional - Central,HCCA Events,Regional Events
END:VEVENT
BEGIN:VEVENT
DTSTART;VALUE=DATE:20260728
DTEND;VALUE=DATE:20260801
DTSTAMP:20260419T075401
CREATED:20260311T171849Z
LAST-MODIFIED:20260311T171903Z
UID:10000123-1785196800-1785542399@hcca.org
SUMMARY:Door County Wisconsin Tour - Sister Bay\, WI
DESCRIPTION:The scenic roads are mostly level and the drives are relaxed with total miles of 5\, 56\, 63\, and 39 per day.\nJoint tour of HCCA and VMCCA. \nDave Neuhaus – daveneuhaus22@gmail.com \nFor more information visit https://wisautotours.weebly.com/tour.html \n\nBrochure\nDoor County Tour Registration-Form
URL:https://hcca.org/event/door-county-wisconsin-tour-sister-bay-wi/
CATEGORIES:>>Regional - Central,HCCA Events
END:VEVENT
END:VCALENDAR