BEGIN:VCALENDAR
VERSION:2.0
PRODID:-//Horseless Carriage Club of America - ECPv6.15.20//NONSGML v1.0//EN
CALSCALE:GREGORIAN
METHOD:PUBLISH
X-ORIGINAL-URL:https://hcca.org
X-WR-CALDESC:Events for Horseless Carriage Club of America
REFRESH-INTERVAL;VALUE=DURATION:PT1H
X-Robots-Tag:noindex
X-PUBLISHED-TTL:PT1H
BEGIN:VTIMEZONE
TZID:America/Los_Angeles
BEGIN:DAYLIGHT
TZOFFSETFROM:-0800
TZOFFSETTO:-0700
TZNAME:PDT
DTSTART:20250309T100000
END:DAYLIGHT
BEGIN:STANDARD
TZOFFSETFROM:-0700
TZOFFSETTO:-0800
TZNAME:PST
DTSTART:20251102T090000
END:STANDARD
BEGIN:DAYLIGHT
TZOFFSETFROM:-0800
TZOFFSETTO:-0700
TZNAME:PDT
DTSTART:20260308T100000
END:DAYLIGHT
BEGIN:STANDARD
TZOFFSETFROM:-0700
TZOFFSETTO:-0800
TZNAME:PST
DTSTART:20261101T090000
END:STANDARD
BEGIN:DAYLIGHT
TZOFFSETFROM:-0800
TZOFFSETTO:-0700
TZNAME:PDT
DTSTART:20270314T100000
END:DAYLIGHT
BEGIN:STANDARD
TZOFFSETFROM:-0700
TZOFFSETTO:-0800
TZNAME:PST
DTSTART:20271107T090000
END:STANDARD
END:VTIMEZONE
BEGIN:VEVENT
DTSTART;VALUE=DATE:20260808
DTEND;VALUE=DATE:20260809
DTSTAMP:20260423T013227
CREATED:20260313T150145Z
LAST-MODIFIED:20260313T150145Z
UID:10000125-1786147200-1786233599@hcca.org
SUMMARY:New London to New Brighton Antique Car Run
DESCRIPTION: 40th Annual New London to New Brighton Antique Car Run Saturday\, August 8\, 2026  \n2026 ACR Registration Form\nEligibility requirements: All vehicles up through 1908 and any 1- or 2-cylinder vehicles up through 1915 are eligible to participate. This includes bikes\, motorcycles\, steam\, and electric cars as well.  \nTuesday\, August. 4th – Informal local touring with an evening meet and greet with hors d’oeuvres  \nWednesday\, August 5th – Bayer Built Woodworks and Rustic Design Flower Farm (60-mile round tour)  \nBayer Built Woodworks and Rustic Design Flower Farm located near Belgrade MN. Bayer Built manufactures custom interior doors\, moldings\, and wood stair systems. Rustic Design Flower Farm grows specialty cut flowers offering flower subscriptions\, summer picking\, wedding design and design classes.  \nThursday\, August 6th – Lange’s Museum\, near Sedan MN (85-mile round tour)  \nCome visit the African Serengeti indoors. Featuring a impressive display of full-size African animal mounts and a large gun collection. The evening “meet\, greet\, eat” will be held at Peace Lutheran Church in New London. We’ve invited our volunteer tow drivers to join us\, so you will have the chance to meet and exchange information.  \nFriday\, August 7th – 36-mile warm up tour before the big day\, scenic tour around Nest and Green Lakes in the New London area in the early afternoon after the morning bunch and drivers meeting. Also\, in the late afternoon we will have a parade in the downtown New London area to show off our cars to the general public. The parade ends at the New London Legion with a ribs and chicken buffet.  \nSaturday\, August 8th – 120+ mile tour of beautiful Minnesota countryside\, 5 rest stops in communities along the way\, finish line finale and award ceremony in New Brighton\, part of the Stockyard Days festival.  \nPhotograph deadline: To have a picture of your car in the Official Roster\, photos must be received by July 15th.  \nEmail photos to wmkuperus@tds.net or mail to Antique Car Run\, Inc.\, 313 Pine St SW\, New London\, MN 56273. Pictures from previous programs/rosters will be used if new ones are not received.  \nStart Order: The starting gun for the Antique Car Run will sound at 7 am. To qualify for a medallion\, cars must start by 9 am.  \nShirts and Medallions: Each NLNB driver will receive a commemorative T-shirt in his/her packet at registration. Assist us by noting your preferred size on the front of this form. Specially minted\, dated medallions will be awarded to all finishers at an awards ceremony between 6:00 and 6:30 pm at Long Lake Park.  \nCostumes: The ACR encourages but doesn’t require period clothing. Please plan to wear period costumes. They add a great deal of fun to the Run for both participants and spectators. 
URL:https://hcca.org/event/new-london-to-new-brighton-antique-car-run/
CATEGORIES:>>Regional - Central,HCCA Events
END:VEVENT
END:VCALENDAR