BEGIN:VCALENDAR
VERSION:2.0
PRODID:-//Horseless Carriage Club of America - ECPv6.15.20//NONSGML v1.0//EN
CALSCALE:GREGORIAN
METHOD:PUBLISH
X-ORIGINAL-URL:https://hcca.org
X-WR-CALDESC:Events for Horseless Carriage Club of America
REFRESH-INTERVAL;VALUE=DURATION:PT1H
X-Robots-Tag:noindex
X-PUBLISHED-TTL:PT1H
BEGIN:VTIMEZONE
TZID:America/Los_Angeles
BEGIN:DAYLIGHT
TZOFFSETFROM:-0800
TZOFFSETTO:-0700
TZNAME:PDT
DTSTART:20250309T100000
END:DAYLIGHT
BEGIN:STANDARD
TZOFFSETFROM:-0700
TZOFFSETTO:-0800
TZNAME:PST
DTSTART:20251102T090000
END:STANDARD
BEGIN:DAYLIGHT
TZOFFSETFROM:-0800
TZOFFSETTO:-0700
TZNAME:PDT
DTSTART:20260308T100000
END:DAYLIGHT
BEGIN:STANDARD
TZOFFSETFROM:-0700
TZOFFSETTO:-0800
TZNAME:PST
DTSTART:20261101T090000
END:STANDARD
BEGIN:DAYLIGHT
TZOFFSETFROM:-0800
TZOFFSETTO:-0700
TZNAME:PDT
DTSTART:20270314T100000
END:DAYLIGHT
BEGIN:STANDARD
TZOFFSETFROM:-0700
TZOFFSETTO:-0800
TZNAME:PST
DTSTART:20271107T090000
END:STANDARD
END:VTIMEZONE
BEGIN:VEVENT
DTSTART;VALUE=DATE:20260719
DTEND;VALUE=DATE:20260722
DTSTAMP:20260423T025419
CREATED:20260313T223529Z
LAST-MODIFIED:20260313T230506Z
UID:10000126-1784419200-1784678399@hcca.org
SUMMARY:Celebration of Brass VI HCCA National Tour – Kalamazoo\, MI
DESCRIPTION:Please join us for a Three-Day HCCA National Tour\, directly following the Celebration of Brass VI amazing Pre-1916 Car Show & Pre-WWII Swap Meet held at the Gilmore Car Museum. Sponsored by the Museum of the Horseless Carriage Touring Club\, HCCA members will be touring Sunday\, Monday\, & Tuesday in their Brass Era (gas\, steam\, or electric) automobiles\, trucks\, and motorcycles to all new destinations\, on all new routes throughout picturesque southwest Michigan. The tour starts and finishes each day at the COB VI host hotel. There is rig parking at or near the hotel. \nTHE REGISTRATION FORM IS AVAILABLE AT  \nwww.museumofthehorselesscarriage.org/events \nCOB VI & HCCA NATIONAL TOUR HOST HOTEL  \nHoliday Inn & Suites\, Kalamazoo West\, 1247 Westgate Drive\, Kalamazoo\, MI 49009. The group rate is $124.00 for Standard King and $134.00 for Standard Double Queen rooms plus taxes and fees. The Celebration of Brass room block has a cut-off date of June 24\, 2026. The block is available Thursday\, July 16 – Tuesday\, July 21\, 2026 (departing July 22). For reservations call 269-888-4800. Information about the hotel link is on the MHC website.  \nSee the registration form for tour inclusions at https://www.museumofthehorselesscarriage.org/events \nIf you have questions\, please contact Event Chair\, Terry Cole\, at events@museumofthehorselesscarriage.org or 616-262-9477.
URL:https://hcca.org/event/celebration-of-brass-vi-hcca-national-tour-kalamazoo-mi/
CATEGORIES:>>Regional - Central,HCCA Events
ATTACH;FMTTYPE=image/jpeg:https://hcca.org/wp-content/uploads/2026/03/2026-HCCA-National-Tour-1-scaled.jpg
END:VEVENT
END:VCALENDAR