BEGIN:VCALENDAR
VERSION:2.0
PRODID:-//Horseless Carriage Club of America - ECPv6.15.20//NONSGML v1.0//EN
CALSCALE:GREGORIAN
METHOD:PUBLISH
X-ORIGINAL-URL:https://hcca.org
X-WR-CALDESC:Events for Horseless Carriage Club of America
REFRESH-INTERVAL;VALUE=DURATION:PT1H
X-Robots-Tag:noindex
X-PUBLISHED-TTL:PT1H
BEGIN:VTIMEZONE
TZID:America/Los_Angeles
BEGIN:DAYLIGHT
TZOFFSETFROM:-0800
TZOFFSETTO:-0700
TZNAME:PDT
DTSTART:20250309T100000
END:DAYLIGHT
BEGIN:STANDARD
TZOFFSETFROM:-0700
TZOFFSETTO:-0800
TZNAME:PST
DTSTART:20251102T090000
END:STANDARD
BEGIN:DAYLIGHT
TZOFFSETFROM:-0800
TZOFFSETTO:-0700
TZNAME:PDT
DTSTART:20260308T100000
END:DAYLIGHT
BEGIN:STANDARD
TZOFFSETFROM:-0700
TZOFFSETTO:-0800
TZNAME:PST
DTSTART:20261101T090000
END:STANDARD
BEGIN:DAYLIGHT
TZOFFSETFROM:-0800
TZOFFSETTO:-0700
TZNAME:PDT
DTSTART:20270314T100000
END:DAYLIGHT
BEGIN:STANDARD
TZOFFSETFROM:-0700
TZOFFSETTO:-0800
TZNAME:PST
DTSTART:20271107T090000
END:STANDARD
END:VTIMEZONE
BEGIN:VEVENT
DTSTART;TZID=America/Los_Angeles:20260718T080000
DTEND;TZID=America/Los_Angeles:20260718T170000
DTSTAMP:20260422T080633
CREATED:20260311T162100Z
LAST-MODIFIED:20260311T164039Z
UID:10000122-1784361600-1784394000@hcca.org
SUMMARY:47th Annual Founder's Day - Paris Hill\, ME
DESCRIPTION:47th Annual Founder’s Day\nClassic Car Exhibit\n(not an HCCA event)\nParis Hill\, ME\nContact: Hamlin Memorial Library\nPhone: 203-743-2980
URL:https://hcca.org/event/47th-annual-founders-day-paris-hill-me/
CATEGORIES:>>Regional - East,Non HCCA Events
END:VEVENT
END:VCALENDAR