BEGIN:VCALENDAR
VERSION:2.0
PRODID:-//Horseless Carriage Club of America - ECPv6.15.20//NONSGML v1.0//EN
CALSCALE:GREGORIAN
METHOD:PUBLISH
X-WR-CALNAME:Horseless Carriage Club of America
X-ORIGINAL-URL:https://hcca.org
X-WR-CALDESC:Events for Horseless Carriage Club of America
REFRESH-INTERVAL;VALUE=DURATION:PT1H
X-Robots-Tag:noindex
X-PUBLISHED-TTL:PT1H
BEGIN:VTIMEZONE
TZID:America/Los_Angeles
BEGIN:DAYLIGHT
TZOFFSETFROM:-0800
TZOFFSETTO:-0700
TZNAME:PDT
DTSTART:20230312T100000
END:DAYLIGHT
BEGIN:STANDARD
TZOFFSETFROM:-0700
TZOFFSETTO:-0800
TZNAME:PST
DTSTART:20231105T090000
END:STANDARD
BEGIN:DAYLIGHT
TZOFFSETFROM:-0800
TZOFFSETTO:-0700
TZNAME:PDT
DTSTART:20240310T100000
END:DAYLIGHT
BEGIN:STANDARD
TZOFFSETFROM:-0700
TZOFFSETTO:-0800
TZNAME:PST
DTSTART:20241103T090000
END:STANDARD
BEGIN:DAYLIGHT
TZOFFSETFROM:-0800
TZOFFSETTO:-0700
TZNAME:PDT
DTSTART:20250309T100000
END:DAYLIGHT
BEGIN:STANDARD
TZOFFSETFROM:-0700
TZOFFSETTO:-0800
TZNAME:PST
DTSTART:20251102T090000
END:STANDARD
BEGIN:DAYLIGHT
TZOFFSETFROM:-0800
TZOFFSETTO:-0700
TZNAME:PDT
DTSTART:20260308T100000
END:DAYLIGHT
BEGIN:STANDARD
TZOFFSETFROM:-0700
TZOFFSETTO:-0800
TZNAME:PST
DTSTART:20261101T090000
END:STANDARD
END:VTIMEZONE
BEGIN:VEVENT
DTSTART;VALUE=DATE:20251019
DTEND;VALUE=DATE:20251025
DTSTAMP:20260420T142025
CREATED:20250430T153321Z
LAST-MODIFIED:20250430T153321Z
UID:10000094-1760832000-1761350399@hcca.org
SUMMARY:Dixie SloRiders 1 & 2 Cylinder Tour - Nashville\, GA
DESCRIPTION:October 19\, 2025 through October 24\, 2025. Nashville\, GA. Four and half days of touring in rural southern Georgia hosted by the Dixie SloRiders. \nTour hosts:\nEd Prince (229) 327-1765\nor\nRuss Boyle (727) 379-3072.
URL:https://hcca.org/event/dixie-sloriders-1-2-cylinder-tour-nashville-ga/
CATEGORIES:>>Regional - East,HCCA Events
ATTACH;FMTTYPE=image/jpeg:https://hcca.org/wp-content/uploads/2025/04/IMG_4377-scaled.jpg
END:VEVENT
BEGIN:VEVENT
DTSTART;VALUE=DATE:20251010
DTEND;VALUE=DATE:20251014
DTSTAMP:20260420T142025
CREATED:20241206T235735Z
LAST-MODIFIED:20250401T182810Z
UID:10000083-1760054400-1760399999@hcca.org
SUMMARY:Hershey Hangover XIV
DESCRIPTION:Hershey Hangover XIV\, October 10 through 13\, 2025\nMorgantown\, PA\nSusquehanna Valley Region HCCA and Snappers Touring Region AACA hosts \nJeff Lesher:\n610-639-1977\nhersheyhangover@gmail.com \nHangover Registration Form\n—- \n Hershey Hangover XIV – Morgantown\, PA  \nFriday\, October 10th through Monday\, October 13th\, 2025  \nHost Hotel: Holiday Inn Morgantown\, 6170 Morgantown Rd\, Morgantown\, 19543  \nRate of $149/Night Friday through Tuesday – includes hot breakfast  \nAsk for Horseless Carriage Rate or HC5  \nTrailer Parking at Hotel  \nHotel Desk phone: 610-286-3000 or 800-STAYHGI – deadline Sept 1st\, 2025  \nOr if HGI Member – use Hotel Booking Website. \nSome highlights of this year’s Hershey Hangover XIV Tour:  \nFriday\, October 10 – Arrive at Hotel – No Organized Touring Planned  \nRegistration Pick-Up and 6:30 PM Meet and Greet Buffet with Cash Bar at Hotel  \nSaturday\, October 11  \nMorning of touring into Chester County with a morning stop at the American Helicopter Museum. After our visit to the museum\, we will pass through historic West Chester en route to Stargazer Winery. Lunch will be on your own\, and we have identified three potential lunch stops\, all with unique character and offerings. From the winery\, we will head north while passing an excellent ice cream stop! Dinner on Saturday evening is on your own. 75 miles of driving.  \nSunday\, October 12  \nWe head west into Lancaster County to Harvest Days Celebration at the Landis Valley Farm Museum. This is the 100th anniversary Harvest Days – and the museum is excited to host us. The plan will be to park our cars in and around the village. They will have food trucks on sight\, so lunch will be on your own today. From Landis Valley\, we will head back towards Morgantown with an ice cream stop in Ephrata. Dinner will be at the hotel in the large ballroom because after dinner we will have our third annual Pinewood Derby as a Fund Raiser for the Museum of the Horseless Carriage. Bring your BSA approved racers for a fun evening event. Prizes will be awarded! The hotel bar will also be open! Total mileage of 80 miles.  \nMonday\, October 13  \nLeisurely morning drive through Amish farmland to a coffee stop at Petersheim’s Upholstery shop in Nickel Mines. We will also likely have stop at an Amish wheelwrights shop close to Nickel Mines. From there we will travel to our buffet lunch at Yoder’s in New Holland! No ice cream stop on the way back to the hotel on this shorter tour day. Total mileage of 65 miles.  \nTour will again be limited to 45 cars.  \nParking for trailers and rigs will be at the hotel.  \nNo hook-ups for motorhomes.  \nHotel Reservation includes daily hot breakfast – made to order.  \nRegistration fee will include Friday evening meet/greet at the hotel\, Saturday’s coffee stop\, admission to the Helicopter Museum. Saturday lunch and evening dinner will be on your own. Sunday includes coffee stop\, and banquet at the hotel. Lunch will be on your own at Landis Valley. Monday includes coffee stop and buffet lunch.  \nIndividual Cancellations will be allowed with full refund until September 1\, 2025 – prorated after that date. We will keep a waiting list and use to back fill any cancellations if possible.  \nFor our guests from outside the US\, I will accept payment in USD at Hershey. My flea market spaces: C4Z 1 – 7 in Chocolate Field North. We can also accept payment via PayPal (Friends and Family – ask for details)  \nJohn McAnlis and I will work to secure rides for those not bringing a vehicle. Please designate if you need us to coordinate this on your registration.  \nAlso – for those not bringing a car – if you have already arranged for a ride\, please indicate on your registration form so that we can identify your ride on our name badges.  \nAny questions\, please reach out to Jeff Lesher: HersheyHangover@gmail.com  \nor call 610-639-1977  \nSunday night’s Pinewood Derby elimination races will be held in the ballroom – on a BSA approved computerized timing track. Bring your cars – which must meet BSA rules for wheels\, axles\, weight\, height\, and length to compete.  \nCash prizes for Fastest\, Runner-Up\, and Slowest.  \n$25 Entry fee can be paid at Hangover.  \nProceeds to benefit the Museum of the Horseless Carriage. 
URL:https://hcca.org/event/hershey-hangover-xiv/
CATEGORIES:>>Regional - East,HCCA Events
END:VEVENT
BEGIN:VEVENT
DTSTART;VALUE=DATE:20251003
DTEND;VALUE=DATE:20251006
DTSTAMP:20260420T142025
CREATED:20250814T160844Z
LAST-MODIFIED:20250814T160917Z
UID:10000104-1759449600-1759708799@hcca.org
SUMMARY:Newport Antique Auto Hill Climb
DESCRIPTION:October 3\, 4\, & 5 2025 \nThe Newport Antique Auto Hill Climb is an annual festival that takes place on the first Sunday of October in Newport\, Indiana\, organized and sponsored by the Lions Club of Newport and the Town of Newport. The main event is a series of timed runs in which antique automobiles\, trucks\, and motorcycles from the Steam\, Brass\, Vintage\, Antique\, and Classic Car eras ascend the town’s steep\, 1800-foot-long Main Street hill as quickly as possible. \n2025 RAFFLE CAR – 1939 chevrolet master 85 \nhttps://newport-antique-auto-hillclimb.squarespace.com
URL:https://hcca.org/event/newport-antique-auto-hill-climb/
CATEGORIES:>>Regional - East,Non HCCA Events
ATTACH;FMTTYPE=image/jpeg:https://hcca.org/wp-content/uploads/2025/08/fe0185eb-ba75-44ac-9664-70ea9f78826f.jpg
END:VEVENT
BEGIN:VEVENT
DTSTART;VALUE=DATE:20250518
DTEND;VALUE=DATE:20250523
DTSTAMP:20260420T142025
CREATED:20250106T152553Z
LAST-MODIFIED:20250106T152644Z
UID:10000085-1747526400-1747958399@hcca.org
SUMMARY:2nd Annual National ABC Tour
DESCRIPTION:May 18-22\, 2025. Hosted by Shawn and Erin Achtel and the Old Time Touring Club. 4.5 days of touring Southeastern Pennsylvania. \nContact Shawn Achtel at OTTCMembership@yahoo.com
URL:https://hcca.org/event/2nd-annual-national-abc-tour/
CATEGORIES:>>Regional - East,HCCA Events
ATTACH;FMTTYPE=image/jpeg:https://hcca.org/wp-content/uploads/2025/01/logo-2025.jpg
END:VEVENT
BEGIN:VEVENT
DTSTART;VALUE=DATE:20250427
DTEND;VALUE=DATE:20250504
DTSTAMP:20260420T142025
CREATED:20240402T052325Z
LAST-MODIFIED:20241015T175257Z
UID:10000058-1745712000-1746316799@hcca.org
SUMMARY:2025 HCCA National Convention & Tour - Orange VA
DESCRIPTION:Tour Dates: April 27 – May 3\, 2025 \n\nThe 2025 HCCA National Convention & Tour will be based in Orange\, Virginia\, in the beautiful Central Piedmont region. \nThis area offers spectacular views of the Blue Ridge Mountains to the west\, and has quiet rural roads\, and short rolling hills\, with wonderful historic destinations for each day’s tour. \nOrange\, Virginia is located 30 miles north of Charlottesville. It is a one and a half hour drive SW of Washington\, D.C. and a one and a half hour drive NW of Richmond\, VA. \nYou must register your car and all passengers\, to participate on the 2025 Convention & Tour. Cars must have been manufactured in 1915 or earlier to participate. \nRegistration is on a first-in basis. We have planned for only 50 cars.  Please send in your check with your registration form to confirm your registration.  Don’t forget to also make your hotel reservation. \nWe hope that you will join us on the 2025 HCCA National Convention & Tour. \nPlease send your tour registration form and registration fee to: \nDouglas & Beverly Tomb\n2122 Grayson Place\nFalls Church\,  VA   22043\n703-967-5229\npathwaysofpresidents@gmail.com \nTour Registration Form
URL:https://hcca.org/event/2025-hcca-national-convention-tour-orange-va/
CATEGORIES:>>Regional - East,HCCA Events
ATTACH;FMTTYPE=image/jpeg:https://hcca.org/wp-content/uploads/2024/04/Train_Depot_Orange_VA-1.jpg
END:VEVENT
BEGIN:VEVENT
DTSTART;VALUE=DATE:20241106
DTEND;VALUE=DATE:20241111
DTSTAMP:20260420T142025
CREATED:20240611T215742Z
LAST-MODIFIED:20240611T215936Z
UID:10000066-1730934000-1731279599@hcca.org
SUMMARY:Toolin' 'Round Lakeland Florida
DESCRIPTION:November 7-10\, 2024\nBartow\, FL\nFlorida Region HCCA\nwww. hcca-fl.org\nRandy Hall (724)996-4910\nMargeHall53@gmail.com
URL:https://hcca.org/event/toolin-round-lakeland-florida/
CATEGORIES:>>Regional - East,Regional Events
END:VEVENT
BEGIN:VEVENT
DTSTART;VALUE=DATE:20241020
DTEND;VALUE=DATE:20241026
DTSTAMP:20260420T142025
CREATED:20240731T134924Z
LAST-MODIFIED:20240801T185849Z
UID:10000073-1729382400-1729900799@hcca.org
SUMMARY:Dixie SloRiders 1&2 Tour
DESCRIPTION:Crawfordville\, FL October 20 to October 25\, 2024. Crawfordville is just south of Tallahassee\, FL. This rural area is still largely the same as it was back in the days of our vehicles. Contact Steve Cook 508-259-4053
URL:https://hcca.org/event/dixie-sloriders-12-tour-2/
CATEGORIES:>>Regional - East,HCCA Events,Regional Events
ATTACH;FMTTYPE=image/jpeg:https://hcca.org/wp-content/uploads/2024/07/IMG_4918-scaled.jpg
END:VEVENT
BEGIN:VEVENT
DTSTART;VALUE=DATE:20241011
DTEND;VALUE=DATE:20241015
DTSTAMP:20260420T142025
CREATED:20240617T234308Z
LAST-MODIFIED:20240617T234308Z
UID:10000068-1728604800-1728950399@hcca.org
SUMMARY:Hershey Hangover XIII - Hershey PA
DESCRIPTION:Bring your brass car to Hershey and enjoy 3 days of touring after the Hershey Fall meet.\nOct 11-14 SBG – Hershey Hangover XIII\, PA\nJeff Lesher 610-639-1977\nHersheyhangover@gmail.com\nhttps://www.snappersbrassandgas.com/
URL:https://hcca.org/event/hershey-hangover-xiii-hershey-pa/
CATEGORIES:>>Regional - East,HCCA Events
ATTACH;FMTTYPE=image/png:https://hcca.org/wp-content/uploads/2024/06/pixelcut-export.png
END:VEVENT
BEGIN:VEVENT
DTSTART;VALUE=DATE:20241007
DTEND;VALUE=DATE:20241012
DTSTAMP:20260420T142025
CREATED:20240507T161134Z
LAST-MODIFIED:20240507T161134Z
UID:10000064-1728334800-1728680399@hcca.org
SUMMARY:2024 Eastern Fall (Hershey)
DESCRIPTION:Host: Hershey Region AACA Location: Hershey\, PA \nChairman: Kurt Froebel – fallmeet@hersheyaaca.org \nhttps://hershey.aaca.org \n 
URL:https://hcca.org/event/2024-eastern-fall-hershey/
CATEGORIES:>>Regional - East,Non HCCA Events,Regional Events
ATTACH;FMTTYPE=image/jpeg:https://hcca.org/wp-content/uploads/2024/05/cropped-Hershey-Region-Logo-1.jpg
END:VEVENT
BEGIN:VEVENT
DTSTART;VALUE=DATE:20240907
DTEND;VALUE=DATE:20240909
DTSTAMP:20260420T142025
CREATED:20240315T160634Z
LAST-MODIFIED:20240315T160634Z
UID:10000053-1725667200-1725839999@hcca.org
SUMMARY:Old Car Festival - Greenfield Village
DESCRIPTION:September 7 – 8\, 2024. Greenfield Village at The Henry Ford Museum \nHundreds of vehicles from the 1890s through 1932 arrive from across the country to be perfectly set in the place where American history comes alive. Old Car Festival in Greenfield Village is a raucous ride\, epitomizing the earnest optimism of the American Dream from the turn of the century to the Great Depression. \nAdvertised as the longest running car show in America. \nhttps://www.thehenryford.org/participants
URL:https://hcca.org/event/old-car-festival-greenfield-village/
CATEGORIES:>>Regional - East,Non HCCA Events,Regional Events
ATTACH;FMTTYPE=image/jpeg:https://hcca.org/wp-content/uploads/2024/03/PXL_20220910_132445268-scaled.jpg
END:VEVENT
BEGIN:VEVENT
DTSTART;VALUE=DATE:20240825
DTEND;VALUE=DATE:20240830
DTSTAMP:20260420T142025
CREATED:20240316T165659Z
LAST-MODIFIED:20240316T165659Z
UID:10000054-1724544000-1724975999@hcca.org
SUMMARY:2024 Curved Dash Olds and one-cylinder REO tour
DESCRIPTION:August 25-29\, Princeton\, NJ \nFour-day tour for CDO’s and one-cylinder REO’s the last week of August 2024. Hosted at a 370 acre conference center near historic Princeton with ample trailer parking. Run with the Tri-State Region of HCCA. \nIncludes suitable back roads\, and daily routes not exceeding 35 miles. We will visit historical sites\, sculpture gardens\, alpacas\, a model railroad layout\, and a famous antique car restoration facility. \nTo sign up\, send a refundable deposit of $100 to: \n\nRobert Nunnink (make checks payable to)\n30 West Sunset Rd\nPompton Plains\, NJ 07444
URL:https://hcca.org/event/2024-curved-dash-olds-and-one-cylinder-reo-tour/
CATEGORIES:>>Regional - East,HCCA Events,Regional Events
ATTACH;FMTTYPE=image/jpeg:https://hcca.org/wp-content/uploads/2024/03/Olds-REO-scaled.jpg
END:VEVENT
BEGIN:VEVENT
DTSTART;VALUE=DATE:20240804
DTEND;VALUE=DATE:20240805
DTSTAMP:20260420T142025
CREATED:20240613T220636Z
LAST-MODIFIED:20240613T220636Z
UID:10000067-1722729600-1722815999@hcca.org
SUMMARY:57th Annual Belltown Vintage Motorcar Meet
DESCRIPTION:Haddam Neck Fairgrounds\, Haddam Neck\, CT (off Rte. 151 on the east side of CT River)\nA judged antique car show for vehicles 40 years old or older. \nPresented by the Belltown Antique Car Club\, www.belltownantiquecarclub.org\nContact: Peter Christianson\, 860-510-3340\, email belltowncarclub@gmail.com\nThis year’s “Featured Marque” Class is dedicated to the pre-war cars of Connecticut & Neighboring States \nRegistration is on the day of the show. $10 entry fee per show car waived for cars qualified for the Featured Marque Class \nWe welcome all early cars! \nEVENT HANDOUT
URL:https://hcca.org/event/57th-annual-belltown-vintage-motorcar-meet/
CATEGORIES:>>Regional - East,Regional Events
ATTACH;FMTTYPE=image/png:https://hcca.org/wp-content/uploads/2024/06/2024-belltown.png
END:VEVENT
BEGIN:VEVENT
DTSTART;VALUE=DATE:20240804
DTEND;VALUE=DATE:20240805
DTSTAMP:20260420T142025
CREATED:20240219T174127Z
LAST-MODIFIED:20240219T175047Z
UID:10000048-1722729600-1722815999@hcca.org
SUMMARY:Pre War Vehicles at Gore Place Motor Heads Charity Car Show - Waltham\, Ma
DESCRIPTION:Held at Gore Place\, factory offices of the Metz Automobile Co. 1911-1921. Motorheads Car Club & Gore Place\, Waltham Museum\, Metz / Waltham Vehicle Group invite you to a show vintage car show including prewar vehicles manufactured in Waltham\, Ma. Awards\, Vendors\, Food\, Raffles\, Trophies. The former Stanley Factory is two miles from the show. \nGore Place\n52 Gore St. Waltham\, Ma. 02453\nAugust 4\, 2024 – 7AM to 4PM\nGregg Anderson. pickinginmass@gmail.com 508.320.8876 \nRegistration $30.00 includes passengers.\nSpectators $5\, Children\, elderly and handicapped free.\n*Period Dress is encouraged
URL:https://hcca.org/event/pre-war-vehicles-at-gore-place-motor-heads-charity-car-show/
CATEGORIES:>>Regional - East,Non HCCA Events
END:VEVENT
BEGIN:VEVENT
DTSTART;VALUE=DATE:20240722
DTEND;VALUE=DATE:20240727
DTSTAMP:20260420T142026
CREATED:20240530T190151Z
LAST-MODIFIED:20240530T190151Z
UID:10000065-1721606400-1722038399@hcca.org
SUMMARY:HCCA North Jersey - Annual Tour in Southbury\, Connecticut
DESCRIPTION:Embark on an unforgettable journey through picturesque Western Connecticut\, where you’ll be treated to enchanting scenic drives\, classic New England allure\, and visits to historic downtowns. Our meticulously planned week-long itinerary is packed with fascinating and one-of-a-kind stops that cater to everyone’s interests. We can’t wait to explore with all of you. Secure your hotel booking now and stay tuned for the prompt release of tour registration details. \nBook your Accommodations at The Heritage Hotel in Southbury\, Connecticut \n\nOpen to Pre-1916 Vehicles\nAmenities include a full-service spa\, complete gym\, indoor and outdoor pool\, a restaurant and great outdoor spaces including a micro vineyard and various food and beverage options.\nWe have secured a block of rooms till June 10th at $149/night.\nPlease call (203) 264-8200 and reference HCCA New Jersey\n\nHighlights Include \n\nA private tour of the greatest brass car collection on the East Coast\nA private tour of a well-known steam car restoration facility\nAn award-winning bourbon distillery\, local micro-breweries\, and wineries\nArethusa Farm\, is an impressive dairy farm started by the president of Manolo Blahnik shoes.\nChocolate Factory\, where we can make our own treats\nConnecticut Antique Machinery Museum. Specializing in early agricultural and industrial equipment\nAnd More\n\nContact Mark and Erika Scanel if your interested and we will send the Registration Packet ASAP. \nMark & Erika Scanel \n201-280-6834 \nMarkscanel@gmail.com
URL:https://hcca.org/event/hcca-north-jersey-annual-tour-in-southbury-connecticut/
CATEGORIES:>>Regional - East,HCCA Events,Regional Events
ATTACH;FMTTYPE=image/png:https://hcca.org/wp-content/uploads/2024/05/Screenshot-2024-05-30-at-12.01.30 PM.png
END:VEVENT
BEGIN:VEVENT
DTSTART;VALUE=DATE:20240609
DTEND;VALUE=DATE:20240614
DTSTAMP:20260420T142026
CREATED:20240201T005220Z
LAST-MODIFIED:20240216T174312Z
UID:10000031-1717891200-1718323199@hcca.org
SUMMARY:ABC National Tour
DESCRIPTION:2024 HCCA National ABC Tour\nStrasburg\, PA\nJune 9—13\, 2024 \nREGISTRATION FORM\nCo-Sponsored by Susquehanna Valley and The Old Time Touring Club Regions HCCA \nLimited to 45 cars—Hotel information will be sent upon receiving registration\nHotel rates—US $125.00 plus taxes Per night \nFor all registration questions please email Shawn Achtel at\nottcmembership@yahoo.com. \nFor all other inquiries \n\nTour Director: Jeff Lesher at jeff.lesher@outlook.com\nRegistration: Shawn Achtel at ottcmembership@yahoo.com
URL:https://hcca.org/event/abc-national-tour/
CATEGORIES:>>Regional - East,HCCA Events
ATTACH;FMTTYPE=image/png:https://hcca.org/wp-content/uploads/2024/01/Screenshot-2024-01-31-at-4.43.25 PM.png
END:VEVENT
BEGIN:VEVENT
DTSTART;VALUE=DATE:20240505
DTEND;VALUE=DATE:20240516
DTSTAMP:20260420T142026
CREATED:20240430T142514Z
LAST-MODIFIED:20240430T142514Z
UID:10000063-1714867200-1715817599@hcca.org
SUMMARY:Progressive Tour 2024 - McRae-Helena\, GA
DESCRIPTION:May 5\, 2024 through May 15\, 2024.\nHosted by the Dixie SloRider\nA progressive tour starting and ending in McRae-Helena\, GA and ending in McRae-Helena\, GA. The tour circles around most of Georgia.\nTour host Russ Boyle\n727-379-3072\nrjb72@aol.com
URL:https://hcca.org/event/progressive-tour-2024-mcrae-helena-ga/
CATEGORIES:>>Regional - East,HCCA Events,Regional Events
END:VEVENT
BEGIN:VEVENT
DTSTART;VALUE=DATE:20240421
DTEND;VALUE=DATE:20240428
DTSTAMP:20260420T142026
CREATED:20240216T173047Z
LAST-MODIFIED:20240216T173154Z
UID:10000045-1713657600-1714262399@hcca.org
SUMMARY:Snappers Brass & Gas AACA Spring Tour\, Thomasville\, Ga.
DESCRIPTION:Enjoy one of the nicest small towns in south Georgia with its brick streets\, fine restaurants and beautiful homes. Visit the Pebble Hill Plantation\, Zebulon Theater\, Georgia Agricultural Museum\, Tallahassee Auto Museum\, and more. \nREGISTRATION FORM\nFinal registration due by March 15. \nContact: Ed & Pam Prince\n229-327-1765\nmomasipia@hotmail.com\nhttps://www.snappersbrassandgas.com
URL:https://hcca.org/event/snappers-brass-gas-aaca-spring-tour-thomasville-ga/
CATEGORIES:>>Regional - East,Non HCCA Events,Regional Events
ATTACH;FMTTYPE=image/jpeg:https://hcca.org/wp-content/uploads/2024/02/Snappers-logo.jpg
END:VEVENT
END:VCALENDAR