BEGIN:VCALENDAR
VERSION:2.0
PRODID:-//Horseless Carriage Club of America - ECPv6.15.20//NONSGML v1.0//EN
CALSCALE:GREGORIAN
METHOD:PUBLISH
X-WR-CALNAME:Horseless Carriage Club of America
X-ORIGINAL-URL:https://hcca.org
X-WR-CALDESC:Events for Horseless Carriage Club of America
REFRESH-INTERVAL;VALUE=DURATION:PT1H
X-Robots-Tag:noindex
X-PUBLISHED-TTL:PT1H
BEGIN:VTIMEZONE
TZID:America/Los_Angeles
BEGIN:DAYLIGHT
TZOFFSETFROM:-0800
TZOFFSETTO:-0700
TZNAME:PDT
DTSTART:20250309T100000
END:DAYLIGHT
BEGIN:STANDARD
TZOFFSETFROM:-0700
TZOFFSETTO:-0800
TZNAME:PST
DTSTART:20251102T090000
END:STANDARD
BEGIN:DAYLIGHT
TZOFFSETFROM:-0800
TZOFFSETTO:-0700
TZNAME:PDT
DTSTART:20260308T100000
END:DAYLIGHT
BEGIN:STANDARD
TZOFFSETFROM:-0700
TZOFFSETTO:-0800
TZNAME:PST
DTSTART:20261101T090000
END:STANDARD
BEGIN:DAYLIGHT
TZOFFSETFROM:-0800
TZOFFSETTO:-0700
TZNAME:PDT
DTSTART:20270314T100000
END:DAYLIGHT
BEGIN:STANDARD
TZOFFSETFROM:-0700
TZOFFSETTO:-0800
TZNAME:PST
DTSTART:20271107T090000
END:STANDARD
END:VTIMEZONE
BEGIN:VEVENT
DTSTART;VALUE=DATE:20260111
DTEND;VALUE=DATE:20260112
DTSTAMP:20260423T021932
CREATED:20251007T150052Z
LAST-MODIFIED:20251208T161422Z
UID:10000105-1768089600-1768175999@hcca.org
SUMMARY:San Diego Excursion - Jan 11\, 2026
DESCRIPTION:The La Jolla region is presenting the 2nd annual San Diego Excursion including a drive around San Diego and two laps of the 1915 race route in Point Loma. We will provide the public a two hour viewing area where they can see the cars up close and talk with the drivers. Over 130 cars and over 1\,000 spectators are expected along the route. \nDate/Time: Sunday January 11\, 2026\, leaving San Diego Auto Museum at 9AM \nWebsite: hcfi.org/sdexcursion for details\nDriver signup: hcfi.org/sdexcursion/signup\nQuestions: SDExcursion@hcfi.org or call 858-218-6281\nFacebook & Instagram: @SDExcursion
URL:https://hcca.org/event/san-diego-excursion-jan-11-2026/
CATEGORIES:>>Regional - West,Regional Events
ATTACH;FMTTYPE=image/jpeg:https://hcca.org/wp-content/uploads/2025/10/IMG_0380-scaled.jpeg
END:VEVENT
END:VCALENDAR