BEGIN:VCALENDAR
VERSION:2.0
PRODID:-//Horseless Carriage Club of America - ECPv6.15.20//NONSGML v1.0//EN
CALSCALE:GREGORIAN
METHOD:PUBLISH
X-WR-CALNAME:Horseless Carriage Club of America
X-ORIGINAL-URL:https://hcca.org
X-WR-CALDESC:Events for Horseless Carriage Club of America
REFRESH-INTERVAL;VALUE=DURATION:PT1H
X-Robots-Tag:noindex
X-PUBLISHED-TTL:PT1H
BEGIN:VTIMEZONE
TZID:America/Los_Angeles
BEGIN:DAYLIGHT
TZOFFSETFROM:-0800
TZOFFSETTO:-0700
TZNAME:PDT
DTSTART:20250309T100000
END:DAYLIGHT
BEGIN:STANDARD
TZOFFSETFROM:-0700
TZOFFSETTO:-0800
TZNAME:PST
DTSTART:20251102T090000
END:STANDARD
BEGIN:DAYLIGHT
TZOFFSETFROM:-0800
TZOFFSETTO:-0700
TZNAME:PDT
DTSTART:20260308T100000
END:DAYLIGHT
BEGIN:STANDARD
TZOFFSETFROM:-0700
TZOFFSETTO:-0800
TZNAME:PST
DTSTART:20261101T090000
END:STANDARD
BEGIN:DAYLIGHT
TZOFFSETFROM:-0800
TZOFFSETTO:-0700
TZNAME:PDT
DTSTART:20270314T100000
END:DAYLIGHT
BEGIN:STANDARD
TZOFFSETFROM:-0700
TZOFFSETTO:-0800
TZNAME:PST
DTSTART:20271107T090000
END:STANDARD
END:VTIMEZONE
BEGIN:VEVENT
DTSTART;VALUE=DATE:20260506
DTEND;VALUE=DATE:20260511
DTSTAMP:20260420T140122
CREATED:20250428T191813Z
LAST-MODIFIED:20250929T174303Z
UID:10000092-1778025600-1778457599@hcca.org
SUMMARY:2026 HCCA National Tour and Convention and California Rendezvous 5
DESCRIPTION:Date: Wednesday May 6\, 2026 – Sunday May 10\, 2026 (check-out)\nLocation: Table Mountain Casino and Resort\, Friant\, CA \nNestled in the foothills of the Southern Sierra Nevada Mountains\, Friant\, California serves as the ideal gateway to breathtaking natural wonders and rich historic landmarks. \nCalifornia Rendezvous 5 is the HCCA National Tour and is planned and hosted through a collaboration of several Regional HCCA groups. \nTo book your hotel reservations\, here is a direct link for the HCCA block of rooms: https://reservations.travelclick.com/115164?groupID=4770652 \nContact:\nJim Skillicorn 831 455-5105 jimskillicorn@comcast.net\nRob Caldeira 408 930-9052 rob@robertcaldeira.com \n\nFLYER v2\nREGISTRATION v2
URL:https://hcca.org/event/2026-hcca-national-tour-and-convention-and-california-rendezvous-5/
CATEGORIES:>>Regional - West,HCCA Events
ATTACH;FMTTYPE=image/png:https://hcca.org/wp-content/uploads/2025/04/Screenshot-2025-07-17-at-10.40.27 AM.png
END:VEVENT
END:VCALENDAR